BEGIN:VCALENDAR
VERSION:2.0
PRODID:-//CA-ONLINE.ORG - ECPv6.15.20//NONSGML v1.0//EN
CALSCALE:GREGORIAN
METHOD:PUBLISH
X-WR-CALNAME:CA-ONLINE.ORG
X-ORIGINAL-URL:https://ca-online.org
X-WR-CALDESC:Events for CA-ONLINE.ORG
REFRESH-INTERVAL;VALUE=DURATION:PT1H
X-Robots-Tag:noindex
X-PUBLISHED-TTL:PT1H
BEGIN:VTIMEZONE
TZID:America/New_York
BEGIN:DAYLIGHT
TZOFFSETFROM:-0500
TZOFFSETTO:-0400
TZNAME:EDT
DTSTART:20230312T070000
END:DAYLIGHT
BEGIN:STANDARD
TZOFFSETFROM:-0400
TZOFFSETTO:-0500
TZNAME:EST
DTSTART:20231105T060000
END:STANDARD
BEGIN:DAYLIGHT
TZOFFSETFROM:-0500
TZOFFSETTO:-0400
TZNAME:EDT
DTSTART:20240310T070000
END:DAYLIGHT
BEGIN:STANDARD
TZOFFSETFROM:-0400
TZOFFSETTO:-0500
TZNAME:EST
DTSTART:20241103T060000
END:STANDARD
BEGIN:DAYLIGHT
TZOFFSETFROM:-0500
TZOFFSETTO:-0400
TZNAME:EDT
DTSTART:20250309T070000
END:DAYLIGHT
BEGIN:STANDARD
TZOFFSETFROM:-0400
TZOFFSETTO:-0500
TZNAME:EST
DTSTART:20251102T060000
END:STANDARD
END:VTIMEZONE
BEGIN:VEVENT
DTSTART;TZID=America/New_York:20241005T110000
DTEND;TZID=America/New_York:20241005T120000
DTSTAMP:20260421T123738
CREATED:20240920T155541Z
LAST-MODIFIED:20241006T011406Z
UID:10000005-1728126000-1728129600@ca-online.org
SUMMARY:Globathon 2024/25 Committee Meeting
DESCRIPTION:COMMITTEE Meets the 1st Saturday of every month In 2024\nOct 5- Nov 2 – Dec 7\n8AM PST / 11am EST / 4pm UK\nID 857 0274 2130 PW 121212
URL:https://ca-online.org/event/globathon/
CATEGORIES:Globathon Committee
END:VEVENT
END:VCALENDAR