BEGIN:VCALENDAR
VERSION:2.0
PRODID:-//CA-ONLINE.ORG - ECPv6.15.20//NONSGML v1.0//EN
CALSCALE:GREGORIAN
METHOD:PUBLISH
X-ORIGINAL-URL:https://ca-online.org
X-WR-CALDESC:Events for CA-ONLINE.ORG
REFRESH-INTERVAL;VALUE=DURATION:PT1H
X-Robots-Tag:noindex
X-PUBLISHED-TTL:PT1H
BEGIN:VTIMEZONE
TZID:America/New_York
BEGIN:DAYLIGHT
TZOFFSETFROM:-0500
TZOFFSETTO:-0400
TZNAME:EDT
DTSTART:20230312T070000
END:DAYLIGHT
BEGIN:STANDARD
TZOFFSETFROM:-0400
TZOFFSETTO:-0500
TZNAME:EST
DTSTART:20231105T060000
END:STANDARD
BEGIN:DAYLIGHT
TZOFFSETFROM:-0500
TZOFFSETTO:-0400
TZNAME:EDT
DTSTART:20240310T070000
END:DAYLIGHT
BEGIN:STANDARD
TZOFFSETFROM:-0400
TZOFFSETTO:-0500
TZNAME:EST
DTSTART:20241103T060000
END:STANDARD
BEGIN:DAYLIGHT
TZOFFSETFROM:-0500
TZOFFSETTO:-0400
TZNAME:EDT
DTSTART:20250309T070000
END:DAYLIGHT
BEGIN:STANDARD
TZOFFSETFROM:-0400
TZOFFSETTO:-0500
TZNAME:EST
DTSTART:20251102T060000
END:STANDARD
BEGIN:DAYLIGHT
TZOFFSETFROM:-0500
TZOFFSETTO:-0400
TZNAME:EDT
DTSTART:20260308T070000
END:DAYLIGHT
BEGIN:STANDARD
TZOFFSETFROM:-0400
TZOFFSETTO:-0500
TZNAME:EST
DTSTART:20261101T060000
END:STANDARD
END:VTIMEZONE
BEGIN:VEVENT
DTSTART;TZID=America/New_York:20241201T123000
DTEND;TZID=America/New_York:20241201T163000
DTSTAMP:20260421T060202
CREATED:20240920T031504Z
LAST-MODIFIED:20241006T003247Z
UID:10000009-1733056200-1733070600@ca-online.org
SUMMARY:Area Business Committee
DESCRIPTION:Topic: Online Service Area\nDay: 1st Sunday of the month\nTime: 12:30pm eastern US / 5:30pm UK \nJoin Zoom Meeting\nhttps://us02web.zoom.us/j/87216899644?pwd=S05oRDZjNXV1cVpEcU1JaktSa29GQT09 \nMeeting ID: 872 1689 9644\nPasscode: OSA \nFind your local number: https://us02web.zoom.us/u/kOlZGIiOV
URL:https://ca-online.org/event/area-business-committee/2024-12-01/
CATEGORIES:OSA Area Business
END:VEVENT
BEGIN:VEVENT
DTSTART;TZID=America/New_York:20241209T130000
DTEND;TZID=America/New_York:20241209T140000
DTSTAMP:20260421T060202
CREATED:20240926T155031Z
LAST-MODIFIED:20251215T181152Z
UID:10000129-1733749200-1733752800@ca-online.org
SUMMARY:Meeting-Services Committee Meeting
DESCRIPTION:Vicky Haines Real Deal: CA Meetings OSA 2 is inviting you to a scheduled Zoom meeting. \nTopic: Meeting Services\nTime: meets on a per needed basis: To find out when the next meeting is: meeting.services@ca-online.org \nJoin Zoom Meeting\nhttps://us02web.zoom.us/j/84932826468?pwd=8Z3Bvv04WXaMzfI6hDBdfuDDKWUPrk.1 \nMeeting ID: 849 3282 6468\nPasscode: 121212\nFind your local number: https://us02web.zoom.us/u/kc2tSinj4I
URL:https://ca-online.org/event/meeting-services-committee-meeting-2/2024-12-09/
CATEGORIES:Meeting Services
END:VEVENT
BEGIN:VEVENT
DTSTART;TZID=America/New_York:20241210T120000
DTEND;TZID=America/New_York:20241210T140000
DTSTAMP:20260421T060202
CREATED:20241103T183108Z
LAST-MODIFIED:20241103T183200Z
UID:10000254-1733832000-1733839200@ca-online.org
SUMMARY:Helpline Committee Meeting
DESCRIPTION:Meeting ID 865 7287 2014  Passcode 121212
URL:https://ca-online.org/event/helpline-committee-meeting/2024-12-10/
CATEGORIES:Helpline Committee
END:VEVENT
BEGIN:VEVENT
DTSTART;TZID=America/New_York:20241215T130000
DTEND;TZID=America/New_York:20241215T130000
DTSTAMP:20260421T060202
CREATED:20240920T175949Z
LAST-MODIFIED:20241006T011310Z
UID:10000069-1734267600-1734267600@ca-online.org
SUMMARY:Unity & Special Events Planning Committee Meeting
DESCRIPTION:Unity is an important part of recovery and the unity committee needs 🫵 \nCome join us to see how Unity is at the core of all we do and help build the fellowship you crave 🙏🏻 \nDay: The 3rd Sunday of each month \nTime: 10am PST | 1pm EST | 6pm UK \nJoin Zoom Meeting\nhttps://us02web.zoom.us/j/83991080161?pwd=VnLf49KMv8WRccXqSWKjKCgUGccEBX.1 \nMeeting ID: 839 9108 0161\nPasscode: 121212 \nFind your local number: https://us02web.zoom.us/u/keCKu1jACd
URL:https://ca-online.org/event/unity-special-events-planning-committee-meeting/2024-12-15/
CATEGORIES:Fundraising Committee,Unity Committee
END:VEVENT
BEGIN:VEVENT
DTSTART;TZID=America/New_York:20241231T163000
DTEND;TZID=America/New_York:20250101T163000
DTSTAMP:20260421T060202
CREATED:20241221T161121Z
LAST-MODIFIED:20241221T161121Z
UID:10000426-1735662600-1735749000@ca-online.org
SUMMARY:4th Annual Globathon
DESCRIPTION:
URL:https://ca-online.org/event/4th-annual-globathon/
END:VEVENT
END:VCALENDAR